BEGIN:VCALENDAR
VERSION:2.0
PRODID:-//ChamberMaster//Event Calendar 2.0//EN
METHOD:PUBLISH
X-PUBLISHED-TTL:P3D
REFRESH-INTERVAL:P3D
CALSCALE:GREGORIAN
BEGIN:VEVENT
DTSTART;VALUE=DATE:20160627
DTEND;VALUE=DATE:20160701
TRANSP:TRANSPARENT
X-MICROSOFT-CDO-ALLDAYEVENT:TRUE
SUMMARY:Emmaus Road Church Day Camp
DESCRIPTION:Day Camp \n\n\n\n4 yr olds - students entering 6th grade
X-ALT-DESC;FMTTYPE=text/html:Day Camp&nbsp\;<br />\n<br />\n4 yr olds - students entering 6th grade<br />\n&nbsp\;
LOCATION:Emmaus Road Church 1811 Elmwood Road DeWitt\, IA 52742
UID:e.1774.1367
SEQUENCE:3
DTSTAMP:20260420T122642Z
URL:https://business.dewittiowa.org/events/details/emmaus-road-church-day-camp-06-27-2016-1367
END:VEVENT

END:VCALENDAR
