BEGIN:VCALENDAR
VERSION:2.0
PRODID:-//ChamberMaster//Event Calendar 2.0//EN
METHOD:PUBLISH
X-PUBLISHED-TTL:P3D
REFRESH-INTERVAL:P3D
CALSCALE:GREGORIAN
BEGIN:VEVENT
DTSTART:20170722T230000Z
DTEND:20170723T010000Z
X-MICROSOFT-CDO-ALLDAYEVENT:FALSE
SUMMARY:End of the Summer Reading Program POOL PARTY
DESCRIPTION:EVERYONE who has finished the Summer Reading Program is invited to our Pool Party celebration!
X-ALT-DESC;FMTTYPE=text/html:EVERYONE who has finished the Summer Reading Program is invited to our Pool Party celebration!
LOCATION:The DeWitt Aquatic Center
UID:e.1774.3178
SEQUENCE:3
DTSTAMP:20260419T164728Z
URL:https://business.dewittiowa.org/events/details/end-of-the-summer-reading-program-pool-party-3178
END:VEVENT

END:VCALENDAR
