BEGIN:VCALENDAR
VERSION:2.0
PRODID:-//ChamberMaster//Event Calendar 2.0//EN
METHOD:PUBLISH
X-PUBLISHED-TTL:P3D
REFRESH-INTERVAL:P3D
CALSCALE:GREGORIAN
BEGIN:VEVENT
DTSTART:20161127T010000Z
DTEND:20161127T043000Z
X-MICROSOFT-CDO-ALLDAYEVENT:FALSE
SUMMARY:Euchre Tournament!
DESCRIPTION:Euchre Tournament!  $20 per team. Join us for a fundraiser supporting students traveling on the senior trip to Italy!  There will be a buffet dinner that includes beef\, cheesy potatoes and sides\, which costs $10 per person.\n\n\n\nPrize money will be awarded to top 3 teams.\n\n\n\nPlease contact Sharon McAleer at (563) 212-0800 or\n\nJill Johnson (708) 846-6003 to reserve a spot in the tournament.
X-ALT-DESC;FMTTYPE=text/html:Euchre Tournament! &nbsp\;$20 per team. Join us for a fundraiser supporting students traveling on the senior trip to Italy! &nbsp\;There will be a buffet dinner that includes beef\, cheesy potatoes and sides\, which costs&nbsp\;$10 per person.<br />\n<br />\nPrize money will be awarded to top 3 teams.<br />\n<br />\nPlease contact Sharon McAleer at (563) 212-0800 or<br />\nJill Johnson (708) 846-6003 to reserve a spot in the tournament.
LOCATION:Buzzy's in Welton
UID:e.1774.1692
SEQUENCE:3
DTSTAMP:20260420T042916Z
URL:https://business.dewittiowa.org/events/details/euchre-tournament-1692
END:VEVENT

END:VCALENDAR
