BEGIN:VCALENDAR
VERSION:2.0
PRODID:-//ChamberMaster//Event Calendar 2.0//EN
METHOD:PUBLISH
X-PUBLISHED-TTL:P3D
REFRESH-INTERVAL:P3D
CALSCALE:GREGORIAN
BEGIN:VEVENT
DTSTART:20140827T200000Z
DTEND:20140827T230000Z
X-MICROSOFT-CDO-ALLDAYEVENT:FALSE
SUMMARY:Event at Maggie's House Assisted Living
DESCRIPTION:Maggie's House Assisted Living is hosting a blood drive for the Mississippi Valley Regional Blood Center. Potential donors must be at least 17 years of age an weigh more than 110 pounds.  A photo I.D. or MVRBC donor card is required to donate. Donors who last gave blood on or before July 2 2014 are eligible to give blood at this drive.  Call Debi Wilson at 563-659-1678 to schedule an appointment.
X-ALT-DESC;FMTTYPE=text/html:Maggie&#39\;s House Assisted Living&nbsp\;is hosting a blood drive for the Mississippi Valley Regional Blood Center. Potential donors must be at least 17 years of age an weigh more than 110 pounds.&nbsp\; A photo I.D. or MVRBC donor card is required to donate. Donors who last gave blood on or before July 2 2014&nbsp\;are eligible to give blood at this drive.&nbsp\; Call Debi Wilson at 563-659-1678 to schedule an appointment.
LOCATION:107 E. 2nd Street\, DeWitt\, Iowa
UID:e.1774.122
SEQUENCE:3
DTSTAMP:20260421T234457Z
URL:https://business.dewittiowa.org/events/details/event-at-maggie-s-house-assisted-living-08-27-2014-122
END:VEVENT

END:VCALENDAR
