BEGIN:VCALENDAR
VERSION:2.0
PRODID:-//ChamberMaster//Event Calendar 2.0//EN
METHOD:PUBLISH
X-PUBLISHED-TTL:P3D
REFRESH-INTERVAL:P3D
CALSCALE:GREGORIAN
BEGIN:VEVENT
DTSTART:20161018T220000Z
DTEND:20161019T000000Z
X-MICROSOFT-CDO-ALLDAYEVENT:FALSE
SUMMARY:Excel Q&A Session
DESCRIPTION:Free opportunity for you to come and ask your most challenging Excel questions.\n\nSponsored by Hasenmiller Spreadsheet Solutions\, LLC.
X-ALT-DESC;FMTTYPE=text/html:Free opportunity for you to come and ask your most challenging Excel questions.<br />\nSponsored by Hasenmiller Spreadsheet Solutions\, LLC.
LOCATION:DeWitt Chamber & Development Company Conference Room 1010 6th Ave. DeWitt
UID:e.1774.1611
SEQUENCE:3
DTSTAMP:20260420T060626Z
URL:https://business.dewittiowa.org/events/details/excel-q-a-session-1611
END:VEVENT

END:VCALENDAR
