BEGIN:VCALENDAR
VERSION:2.0
PRODID:-//ChamberMaster//Event Calendar 2.0//EN
METHOD:PUBLISH
X-PUBLISHED-TTL:P3D
REFRESH-INTERVAL:P3D
CALSCALE:GREGORIAN
BEGIN:VEVENT
DTSTART:20151022T213000Z
DTEND:20151022T233000Z
X-MICROSOFT-CDO-ALLDAYEVENT:FALSE
SUMMARY:Excel Training Class
DESCRIPTION:This 4 hour\, interactive class includes everything you need to know to begin the process of mastering Excel.  Topics include:  \n\n-Using and navigating Excel.  \n\n-Dollar sign notation\n\n-Charts\n\n-Referencing other Worksheets\n\n-Using functions\n\n-Specific functions\, such as SUM\, IF\, VLOOKUP\, MID\, ROUND\, and more\n\n\n\nPrerequisites:  \n\n-Basic computer knowledge\n\n-Must bring a laptop with a full\, Windows version of Excel (2007 or later) installed\n\n\n\nCall Blake at 563-212-9702 or email hasenmillerspreadsheets@gmail.com to register.
X-ALT-DESC;FMTTYPE=text/html:This 4 hour\, interactive class includes everything you need to know to begin the process of mastering Excel. &nbsp\;Topics include: &nbsp\;<br />\n-Using and navigating Excel. &nbsp\;<br />\n-Dollar sign notation<br />\n-Charts<br />\n-Referencing other Worksheets<br />\n-Using functions<br />\n-Specific functions\, such as SUM\, IF\, VLOOKUP\, MID\, ROUND\, and more<br />\n<br />\nPrerequisites: &nbsp\;<br />\n-Basic computer knowledge<br />\n-Must bring a laptop with a full\, Windows version of Excel (2007 or later) installed<br />\n<br />\nCall Blake at 563-212-9702 or email hasenmillerspreadsheets@gmail.com to register. &nbsp\;
LOCATION:DeWitt Chamber & Development Company Conference Room 1010 6th Ave. DeWitt\, IA
UID:e.1774.1059
SEQUENCE:3
DTSTAMP:20260421T010603Z
URL:https://business.dewittiowa.org/events/details/excel-training-class-10-22-2015-1059
END:VEVENT

END:VCALENDAR
