BEGIN:VCALENDAR
VERSION:2.0
PRODID:-//ChamberMaster//Event Calendar 2.0//EN
METHOD:PUBLISH
X-PUBLISHED-TTL:P3D
REFRESH-INTERVAL:P3D
CALSCALE:GREGORIAN
BEGIN:VEVENT
DTSTART;VALUE=DATE:20150918
DTEND;VALUE=DATE:20150920
TRANSP:TRANSPARENT
X-MICROSOFT-CDO-ALLDAYEVENT:TRUE
SUMMARY:Fall Open House
DESCRIPTION:Fall Open House @ THE CROSSROADS Inspired Living\n\n6th Avenue & 10th Street (across from Lincoln Park)\n\nFriday & Saturday\, Sept. 18-19 (Autumn Fest Weekend)\n\nCome Enjoy the Festivities!\n\nApple Cider - Treats - In Store Specials
X-ALT-DESC;FMTTYPE=text/html:<div style="text-align: center\;"><span style="font-family:tahoma"><span style="font-size:22px"><span style="font-family:times new roman"><span style="font-size:26px"><span style="color:rgb(255\, 165\, 0)"><strong>Fall Open House @ THE CROSSROADS </strong><em><strong>Inspired Living</strong></em></span><br />\n<font color="#a52a2a">6th Avenue &amp\; 10th Street (across from Lincoln Park)</font></span><br />\n<span style="font-size:24px"><strong>Friday &amp\; Saturday\, Sept. 18-19 (Autumn Fest Weekend)</strong></span><br />\n<span style="font-size:24px"><strong><span style="color:rgb(255\, 165\, 0)">Come Enjoy the Festivities!</span></strong></span><br />\n<span style="color:rgb(165\, 42\, 42)">Apple Cider - Treats - In Store Specials</span></span></span></span><br />\n<br />\n<br />\n&nbsp\;</div>\n
LOCATION:602 10th Street * Downtown DeWitt\, IA
UID:e.1774.1036
SEQUENCE:3
DTSTAMP:20260421T025813Z
URL:https://business.dewittiowa.org/events/details/fall-open-house-09-18-2015-1036
END:VEVENT

END:VCALENDAR
