BEGIN:VCALENDAR
VERSION:2.0
PRODID:-//ChamberMaster//Event Calendar 2.0//EN
METHOD:PUBLISH
X-PUBLISHED-TTL:P3D
REFRESH-INTERVAL:P3D
CALSCALE:GREGORIAN
BEGIN:VEVENT
DTSTART:20140905T150000Z
DTEND:20140906T000000Z
X-MICROSOFT-CDO-ALLDAYEVENT:FALSE
SUMMARY:Fall Open Houses
DESCRIPTION:Visit the following businesses in DeWitt for in-house specials: A Storybook Ending\; THE CROSSROADS Inspired Living\; Dot's Hallmark\; Dudley's Cottage & Gifts\; The Family Tree\; Flowers on The Side\; Graphic Elements\; Heartland Cottons\; Meant To Be With Flowers\; Necker's Jewelers\; and Scott Drug.
X-ALT-DESC;FMTTYPE=text/html:Visit the following businesses in DeWitt for in-house specials: A Storybook Ending\; THE CROSSROADS Inspired Living\; Dot&#39\;s Hallmark\; Dudley&#39\;s Cottage &amp\; Gifts\; The Family Tree\; Flowers on The Side\; Graphic Elements\; Heartland Cottons\; Meant To Be With Flowers\; Necker&#39\;s Jewelers\; and Scott Drug.
LOCATION:Downtown DeWitt
UID:e.1774.150
SEQUENCE:3
DTSTAMP:20260421T220643Z
URL:https://business.dewittiowa.org/events/details/fall-open-houses-09-05-2014-150
END:VEVENT

END:VCALENDAR
