BEGIN:VCALENDAR
VERSION:2.0
PRODID:-//ChamberMaster//Event Calendar 2.0//EN
METHOD:PUBLISH
X-PUBLISHED-TTL:P3D
REFRESH-INTERVAL:P3D
CALSCALE:GREGORIAN
BEGIN:VEVENT
DTSTART:20140913T170000Z
DTEND:20140913T200000Z
X-MICROSOFT-CDO-ALLDAYEVENT:FALSE
SUMMARY:Family Fun Fest at Maggie's House Assisted Living
DESCRIPTION:Games for ALL Ages Include: Balloon Dart Game\, Bean Bag Toss\, Bottle Ring Toss\, Duck Pond\, Sack Races\, A Clown and Bounce House.  Hot dogs and hamburgers will be served from Noon to 1:30 p.m. Come Join Us For The FUN!
X-ALT-DESC;FMTTYPE=text/html:Games for ALL Ages Include: Balloon Dart Game\, Bean Bag Toss\, Bottle Ring Toss\, Duck Pond\, Sack Races\, A Clown and Bounce House.&nbsp\; Hot dogs and hamburgers will be served from Noon to 1:30 p.m. Come Join Us For The FUN!
LOCATION:Maggie's House Assisted Living\, 107 E. 2nd Street\, DeWitt
UID:e.1774.132
SEQUENCE:3
DTSTAMP:20260421T223022Z
URL:https://business.dewittiowa.org/events/details/family-fun-fest-at-maggie-s-house-assisted-living-09-13-2014-132
END:VEVENT

END:VCALENDAR
