BEGIN:VCALENDAR
VERSION:2.0
PRODID:-//ChamberMaster//Event Calendar 2.0//EN
METHOD:PUBLISH
X-PUBLISHED-TTL:P3D
REFRESH-INTERVAL:P3D
CALSCALE:GREGORIAN
BEGIN:VEVENT
DTSTART:20170607T213000Z
DTEND:20170607T223000Z
X-MICROSOFT-CDO-ALLDAYEVENT:FALSE
SUMMARY:Family Program
DESCRIPTION:"The Rope Warrior" - - David Fisher is a Guinness Book World Record holder jump roper! The whole family will enjoy it! He is amazing!!!
X-ALT-DESC;FMTTYPE=text/html:&quot\;The Rope Warrior&quot\; - - David Fisher is a Guinness Book World Record holder jump roper! The whole family will enjoy it! He is amazing!!!
LOCATION:The Old Library 822 6th Ave. DeWitt\, IA
UID:e.1774.3102
SEQUENCE:3
DTSTAMP:20260419T164125Z
URL:https://business.dewittiowa.org/events/details/family-program-3102
END:VEVENT

END:VCALENDAR
