BEGIN:VCALENDAR
VERSION:2.0
PRODID:-//ChamberMaster//Event Calendar 2.0//EN
METHOD:PUBLISH
X-PUBLISHED-TTL:P3D
REFRESH-INTERVAL:P3D
CALSCALE:GREGORIAN
BEGIN:VEVENT
DTSTART:20140626T180000Z
DTEND:20140626T190000Z
X-MICROSOFT-CDO-ALLDAYEVENT:FALSE
SUMMARY:Family Program: "Animals"
DESCRIPTION:Hosted by Clinton County Conservation.
X-ALT-DESC;FMTTYPE=text/html:<span style="font-size:14px\;"><span style="color: rgb(102\, 102\, 102)\; font-family: 'Helvetica Neue'\, Arial\, FreeSans\, sans-serif\; font-weight: bold\; line-height: normal\;">Hosted by Clinton County Conservation.</span></span>
LOCATION:DeWitt Community Center 512 10th St. DeWitt\, IA
UID:e.1774.89
SEQUENCE:3
DTSTAMP:20260422T025403Z
URL:https://business.dewittiowa.org/events/details/family-program-animals-06-26-2014-89
END:VEVENT

END:VCALENDAR
