BEGIN:VCALENDAR
VERSION:2.0
PRODID:-//ChamberMaster//Event Calendar 2.0//EN
METHOD:PUBLISH
X-PUBLISHED-TTL:P3D
REFRESH-INTERVAL:P3D
CALSCALE:GREGORIAN
BEGIN:VEVENT
DTSTART:20140717T180000Z
DTEND:20140717T190000Z
X-MICROSOFT-CDO-ALLDAYEVENT:FALSE
SUMMARY:Family Program "Colorful Chemistry" by the Grout Museum
DESCRIPTION:Fun show for the summer reading program "Fizz\, Boom\, Read!"
X-ALT-DESC;FMTTYPE=text/html:Fun show for the summer reading program &quot\;Fizz\, Boom\, Read!&quot\;
LOCATION:Opera House 712 6th Ave. DeWitt\, IA
UID:e.1774.105
SEQUENCE:3
DTSTAMP:20260422T011336Z
URL:https://business.dewittiowa.org/events/details/family-program-colorful-chemistry-by-the-grout-museum-07-17-2014-105
END:VEVENT

END:VCALENDAR
