BEGIN:VCALENDAR
VERSION:2.0
PRODID:-//ChamberMaster//Event Calendar 2.0//EN
METHOD:PUBLISH
X-PUBLISHED-TTL:P3D
REFRESH-INTERVAL:P3D
CALSCALE:GREGORIAN
BEGIN:VEVENT
DTSTART:20140724T180000Z
DTEND:20140724T190000Z
X-MICROSOFT-CDO-ALLDAYEVENT:FALSE
SUMMARY:Family Program " Louie the Lightning Bug"
DESCRIPTION:Library Family Program for the Summer Reading Program. Everyone invited.
X-ALT-DESC;FMTTYPE=text/html:Library Family Program for the Summer Reading Program. Everyone invited.
LOCATION:DeWitt Community Center 512 10th St. DeWitt\, IA
UID:e.1774.109
SEQUENCE:3
DTSTAMP:20260422T010821Z
URL:https://business.dewittiowa.org/events/details/family-program-louie-the-lightning-bug-07-24-2014-109
END:VEVENT

END:VCALENDAR
