BEGIN:VCALENDAR
VERSION:2.0
PRODID:-//ChamberMaster//Event Calendar 2.0//EN
METHOD:PUBLISH
X-PUBLISHED-TTL:P3D
REFRESH-INTERVAL:P3D
CALSCALE:GREGORIAN
BEGIN:VEVENT
DTSTART:20170919T230000Z
DTEND:20170919T234500Z
X-MICROSOFT-CDO-ALLDAYEVENT:FALSE
SUMMARY:Family Story Time
DESCRIPTION:Story Time for families with young kids - - with stories\, activities\, crafts\, and snacks!
X-ALT-DESC;FMTTYPE=text/html:Story Time for families with young kids - - with stories\, activities\, crafts\, and snacks!
LOCATION:At the DeWitt Library!
UID:e.1774.4254
SEQUENCE:3
DTSTAMP:20260419T121245Z
URL:https://business.dewittiowa.org/events/details/family-story-time-09-19-2017-4254
END:VEVENT

END:VCALENDAR
