BEGIN:VCALENDAR
VERSION:2.0
PRODID:-//ChamberMaster//Event Calendar 2.0//EN
METHOD:PUBLISH
X-PUBLISHED-TTL:P3D
REFRESH-INTERVAL:P3D
CALSCALE:GREGORIAN
BEGIN:VEVENT
DTSTART:20170905T230000Z
DTEND:20170906T000000Z
X-MICROSOFT-CDO-ALLDAYEVENT:FALSE
SUMMARY:Family Story Time
DESCRIPTION:For families with young children - - come to the library after supper for stories and fun learning activities\, crafts and snacks!
X-ALT-DESC;FMTTYPE=text/html:For families with young children - - come to the library after supper for stories and fun learning activities\, crafts and snacks!
LOCATION:In the kids corner at the DeWitt Library
UID:e.1774.4248
SEQUENCE:3
DTSTAMP:20260419T121009Z
URL:https://business.dewittiowa.org/events/details/family-story-time-4248
END:VEVENT

END:VCALENDAR
