BEGIN:VCALENDAR
VERSION:2.0
PRODID:-//ChamberMaster//Event Calendar 2.0//EN
METHOD:PUBLISH
X-PUBLISHED-TTL:P3D
REFRESH-INTERVAL:P3D
CALSCALE:GREGORIAN
BEGIN:VEVENT
DTSTART:20150814T180000Z
DTEND:20150814T203000Z
X-MICROSOFT-CDO-ALLDAYEVENT:FALSE
SUMMARY:Farmland Leasing Meeting
DESCRIPTION:ISU Extension and Outreach in Clinton County is hosting a farmland leasing meeting on Friday\, August 14\, at 1 pm to address questions that land owners\, tenants\, or other interested individuals have about farmland leasing.\n\n\n\nThe meeting will be held at Buzzy's\, 414 Main Street\, Welton\, IA\, and will last about 2 1/2 hours. Similar meetings are being held across Iowa during the month of August.\n\n\n\nAttendees will gain understanding of current cash rental rate surveys and factors driving next year's rents such as market trends and input costs. Estimating a cash rental rate is a constant of the farm leasing arrangements meeting. This year's decreased profitability will require landlords and tenants to look closely at 2016 production cost estimates. Attendees will learn about types of leases and results of farmland value surveys. A 100 page workbook will be included with registration that incudes land leasing information such as surveys\, sample written lease agreement and termination forms\, and many other publications.\n\n\n\nRegistration is $25 per individual and $40 per couple. An additional $5 fee will be added is registering after August 12\, 2015. Pre-register by calling the Clinton County Extension and Outreach Office at 563-659-5125. Registration form is available here.
X-ALT-DESC;FMTTYPE=text/html:ISU Extension and Outreach in Clinton County is hosting a farmland leasing meeting on Friday\, August 14\, at 1 pm to address questions that land owners\, tenants\, or other interested individuals have about farmland leasing.<br />\n<br />\nThe meeting will be held at Buzzy&#39\;s\, 414 Main Street\, Welton\, IA\, and will last about 2 1/2 hours. Similar meetings are being held across Iowa during the month of August.<br />\n<br />\nAttendees will gain understanding of current cash rental rate surveys and factors driving next year&#39\;s rents such as market trends and input costs. Estimating a cash rental rate is a constant of the farm leasing arrangements meeting. This year&#39\;s decreased profitability will require landlords and tenants to look closely at 2016 production cost estimates. Attendees will learn about types of leases and results of farmland value surveys. A 100 page workbook will be included with registration that incudes land leasing information such as surveys\, sample written lease agreement and termination forms\, and many other publications.<br />\n<br />\nRegistration is $25 per individual and $40 per couple. An additional $5 fee will be added is registering after August 12\, 2015. Pre-register by calling the Clinton County Extension and Outreach Office at 563-659-5125.&nbsp\;<a href="http://cloud.chambermaster.com/userfiles/UserFiles/chambers/1774/File/2015leasingflyer_wregistrationClinton.png">Registration form is available here.</a><br />\n&nbsp\;
LOCATION:
UID:e.1774.915
SEQUENCE:3
DTSTAMP:20260421T044512Z
URL:https://business.dewittiowa.org/events/details/farmland-leasing-meeting-08-14-2015-915
END:VEVENT

END:VCALENDAR
