BEGIN:VCALENDAR
VERSION:2.0
PRODID:-//ChamberMaster//Event Calendar 2.0//EN
METHOD:PUBLISH
X-PUBLISHED-TTL:P3D
REFRESH-INTERVAL:P3D
CALSCALE:GREGORIAN
BEGIN:VEVENT
DTSTART:20170818T180000Z
DTEND:20170818T203000Z
X-MICROSOFT-CDO-ALLDAYEVENT:FALSE
SUMMARY:Farmland Leasing Meeting
DESCRIPTION:Farmland Leasing Meetings to Increase Understanding of Rental Agreements\n\nFarm tenants and land owners are encouraged to attend August 18 in Welton\n\nWelton\, Iowa   Iowa State University Extension and Outreach in Clinton County is hosting a farmland leasing meeting on Friday August 18 at 1:00 PM\, Buzzy's\, 414 Main Street in Welton. The annual meeting is offered to address questions that land owners\, tenants or other interested individuals have about leasing farmland.\n\n \n\nTopics will include land values and cash rent trends\, cost of production\, methods for determining a rental rate\, legislative updates regarding leases and communicating with tenants or landlords. \n\n \n\n"The most recent cash rental rate survey for Iowa shows that rent values across the state of Iowa have declined for the fourth consecutive year\, dropping by 4.8 percent from 2016\," said Ryan Drollette\, farm management specialist with Iowa State University. "However\, rents for individual farms should be based on productivity\, ease of farming\, fertility\, drainage\, local price patterns\, longevity of the lease\, and possible services performed by the tenant." \n\n \n\nThe two and a half hour workshop is designed to assist landowners\, farm tenants and other agri-business professionals with current issues related to farmland ownership\, management and leasing arrangements. Attendees will gain a better understanding of current cash rental rate surveys and factors driving next year's rents such as market trends and input costs.\n\n \n\nEach registrant will receive a 100-page workbook with resources regarding land leasing agreements such as surveys\, sample written lease agreements and termination forms\, along with many other publications. \n\n \n\nAttend a local meeting\n\nRegistration is $25 per individual and includes materials. Preregistration is encouraged as an additional $5 fee will be added if registering less than two calendar days before the meeting date. To register contact the ISU Extension and Outreach Clinton County office at 563-659-5125 or drollett@iastate.edu.\n\n \n\nThe leasing meetings being held across Iowa are facilitated by farm management specialists with ISU Extension and Outreach.
X-ALT-DESC;FMTTYPE=text/html:<div><br />\n<br />\n&nbsp\;<br />\n<strong><span style="font-family:arial\,sans-serif">Farmland Leasing Meetings to Increase Understanding of Rental Agreements</span></strong><br />\n<span style="font-family:arial\,sans-serif"><span style="font-size:11.0pt">Farm tenants and land owners are encouraged to attend August 18 in Welton</span></span><br />\n<span style="font-family:arial\,sans-serif"><span style="font-size:11.0pt">Welton</span></span><span style="font-family:arial\,sans-serif"><span style="font-size:11.0pt">\, Iowa &ndash\; Iowa State University Extension and Outreach in Clinton County is hosting a farmland leasing meeting on Friday August 18 at 1:00 PM\, Buzzy&#39\;s\, 414 Main Street in Welton. The annual meeting is offered to address questions that land owners\, tenants or other interested individuals have about leasing farmland.</span></span><br />\n&nbsp\;<br />\n<span style="font-family:arial\,sans-serif"><span style="font-size:11.0pt">Topics will include land values and cash rent trends\, cost of production\, methods for determining a rental rate\, legislative updates regarding leases and communicating with tenants or landlords. </span></span><br />\n&nbsp\;<br />\n<span style="font-family:arial\,sans-serif"><span style="font-size:11.0pt">&ldquo\;The most recent cash rental rate survey for Iowa shows that rent values across the state of Iowa have declined for the fourth consecutive year\, dropping by 4.8 percent from 2016\,&rdquo\; said Ryan Drollette\, farm management specialist with Iowa State University. &ldquo\;However\, rents for individual farms should be based on productivity\, ease of farming\, fertility\, drainage\, local price patterns\, longevity of the lease\, and possible services performed by the tenant.&rdquo\; </span></span><br />\n&nbsp\;<br />\n<span style="font-family:arial\,sans-serif"><span style="font-size:11.0pt">The two and a half hour workshop is designed to assist landowners\, farm tenants and other agri-business professionals with current issues related to farmland ownership\, management and leasing arrangements. Attendees will gain a better understanding of current cash rental rate surveys and factors driving next year&rsquo\;s rents such as market trends and input costs.</span></span><br />\n&nbsp\;<br />\n<span style="font-family:arial\,sans-serif"><span style="font-size:11.0pt">Each registrant will receive a 100-page workbook with resources regarding land leasing agreements such as surveys\, sample written lease agreements and termination forms\, along with many other publications. </span></span><br />\n&nbsp\;<br />\n<strong><span style="font-family:arial\,sans-serif"><span style="font-size:11.0pt">Attend a local meeting</span></span></strong><br />\n<span style="font-family:arial\,sans-serif"><span style="font-size:11.0pt">Registration is $25 per individual and includes materials. Preregistration is encouraged as an additional $5 fee will be added if registering less than two calendar days before the meeting date. To register contact the ISU Extension and Outreach Clinton County office at 563-659-5125 or drollett@iastate.edu.</span></span><br />\n&nbsp\;<br />\n<span style="font-family:arial\,sans-serif"><span style="font-size:11.0pt">The leasing meetings being held across Iowa are facilitated by farm management specialists with ISU Extension and Outreach. </span></span><br />\n&nbsp\;<br />\n&nbsp\;</div>\n
LOCATION:
UID:e.1774.3183
SEQUENCE:3
DTSTAMP:20260419T135842Z
URL:https://business.dewittiowa.org/events/details/farmland-leasing-meeting-3183
END:VEVENT

END:VCALENDAR
