BEGIN:VCALENDAR
VERSION:2.0
PRODID:-//ChamberMaster//Event Calendar 2.0//EN
METHOD:PUBLISH
X-PUBLISHED-TTL:P3D
REFRESH-INTERVAL:P3D
CALSCALE:GREGORIAN
BEGIN:VEVENT
DTSTART;VALUE=DATE:20170608
DTEND;VALUE=DATE:20170609
TRANSP:TRANSPARENT
X-MICROSOFT-CDO-ALLDAYEVENT:TRUE
SUMMARY:FFA Asparagus Sales
DESCRIPTION:Our local FFA chapter is selling farm fresh asparagus for $5 for a healthy pound!
X-ALT-DESC;FMTTYPE=text/html:Our local FFA chapter is selling farm fresh asparagus for $5 for a healthy pound!
LOCATION:FFA Greenhouse daily until May 25th and DeWitt Farmers Market on Thursdays through picking season
UID:e.1774.3045
SEQUENCE:3
DTSTAMP:20260419T182554Z
URL:https://business.dewittiowa.org/events/details/ffa-asparagus-sales-06-08-2017-3045
END:VEVENT

END:VCALENDAR
