BEGIN:VCALENDAR
VERSION:2.0
PRODID:-//ChamberMaster//Event Calendar 2.0//EN
METHOD:PUBLISH
X-PUBLISHED-TTL:P3D
REFRESH-INTERVAL:P3D
CALSCALE:GREGORIAN
BEGIN:VEVENT
DTSTART:20170429T230000Z
DTEND:20170430T020000Z
X-MICROSOFT-CDO-ALLDAYEVENT:FALSE
SUMMARY:FFA Banquet & Labor Auction
DESCRIPTION:We will be holding our annual parent/member awards banquet to recognize FFA members for their successes over the last year. We will also be holding our 3rd annual Labor Auction. (We will be selling pairs of students for 8 hours of work/each) Please join us for a meal provided by the chapter and its members\, labor auction and awards presentation.
X-ALT-DESC;FMTTYPE=text/html:We will be holding our annual parent/member awards banquet to recognize FFA members for their successes over the last year. We will also be holding our 3rd annual Labor Auction. (We will be selling pairs of students for 8 hours of work/each) Please join us for a meal provided by the chapter and its members\, labor auction and awards presentation.
LOCATION:HS Atrium/CDPAC 425 E. 11th St. DeWitt\, IA
UID:e.1774.2954
SEQUENCE:3
DTSTAMP:20260419T201528Z
URL:https://business.dewittiowa.org/events/details/ffa-banquet-labor-auction-2954
END:VEVENT

END:VCALENDAR
