BEGIN:VCALENDAR
VERSION:2.0
PRODID:-//ChamberMaster//Event Calendar 2.0//EN
METHOD:PUBLISH
X-PUBLISHED-TTL:P3D
REFRESH-INTERVAL:P3D
CALSCALE:GREGORIAN
BEGIN:VEVENT
DTSTART;VALUE=DATE:20160509
DTEND;VALUE=DATE:20160510
TRANSP:TRANSPARENT
X-MICROSOFT-CDO-ALLDAYEVENT:TRUE
SUMMARY:FFA Greenhouse Plant/Asparagus Sale
DESCRIPTION:The FFA Plant/Asparagus Sale is going on now! We have a large variety of annuals\, ornamental grasses\, perennial grass\, white calla lilies\, hanging baskets and assorted veggies! Asparagus is $5/lb (a good pound)
X-ALT-DESC;FMTTYPE=text/html:The FFA Plant/Asparagus Sale is going on now! We have a large variety of annuals\, ornamental grasses\, perennial grass\, white calla lilies\, hanging baskets and assorted veggies! Asparagus is $5/lb (a good pound)
LOCATION:FFA Greenhouse- South Side of School east of the Tennis Courts
UID:e.1774.1332
SEQUENCE:3
DTSTAMP:20260420T153043Z
URL:https://business.dewittiowa.org/events/details/ffa-greenhouse-plant-asparagus-sale-05-09-2016-1332
END:VEVENT

END:VCALENDAR
