BEGIN:VCALENDAR
VERSION:2.0
PRODID:-//ChamberMaster//Event Calendar 2.0//EN
METHOD:PUBLISH
X-PUBLISHED-TTL:P3D
REFRESH-INTERVAL:P3D
CALSCALE:GREGORIAN
BEGIN:VEVENT
DTSTART;VALUE=DATE:20170427
DTEND;VALUE=DATE:20170428
TRANSP:TRANSPARENT
X-MICROSOFT-CDO-ALLDAYEVENT:TRUE
SUMMARY:FFA Plant Sale
DESCRIPTION:FFA Plant Sale/Greenhouse is now OPEN! We have lots of annuals\, veggies\, ornamental grasses and hanging baskets. Veggies include: Cucumber\, zucchini\, tomatoes\, peppers\, egg plant\, kohlrabi and broccoli
X-ALT-DESC;FMTTYPE=text/html:FFA Plant Sale/Greenhouse is now OPEN! We have lots of annuals\, veggies\, ornamental grasses and hanging baskets. Veggies include: Cucumber\, zucchini\, tomatoes\, peppers\, egg plant\, kohlrabi and broccoli
LOCATION:FFA Greenhouse\, located across from the fairgrounds\, next to the home football bleachers. Watch for Signs.
UID:e.1774.2995
SEQUENCE:3
DTSTAMP:20260419T201404Z
URL:https://business.dewittiowa.org/events/details/ffa-plant-sale-2995
END:VEVENT

END:VCALENDAR
