BEGIN:VCALENDAR
VERSION:2.0
PRODID:-//ChamberMaster//Event Calendar 2.0//EN
METHOD:PUBLISH
X-PUBLISHED-TTL:P3D
REFRESH-INTERVAL:P3D
CALSCALE:GREGORIAN
BEGIN:VEVENT
DTSTART:20151108T010000Z
DTEND:20151108T040000Z
X-MICROSOFT-CDO-ALLDAYEVENT:FALSE
SUMMARY:FFA sponsored Trivia Night!
DESCRIPTION:DeWitt-Central FFA is hosting a Trivia night fundraiser at Buzzy's in Welton. A meal will start at 5:30 p.m. provided by Buzzy and Trivia will start at 7pm.
X-ALT-DESC;FMTTYPE=text/html:DeWitt-Central FFA is hosting a Trivia night fundraiser at Buzzy&#39\;s in Welton. A&nbsp\;meal will start at 5:30 p.m. provided by Buzzy and Trivia will start at 7pm.
LOCATION:Buzzy's in Welton
UID:e.1774.1028
SEQUENCE:3
DTSTAMP:20260420T232912Z
URL:https://business.dewittiowa.org/events/details/ffa-sponsored-trivia-night-11-07-2015-1028
END:VEVENT

END:VCALENDAR
