BEGIN:VCALENDAR
VERSION:2.0
PRODID:-//ChamberMaster//Event Calendar 2.0//EN
METHOD:PUBLISH
X-PUBLISHED-TTL:P3D
REFRESH-INTERVAL:P3D
CALSCALE:GREGORIAN
BEGIN:VEVENT
DTSTART:20170221T130000Z
DTEND:20170221T140000Z
X-MICROSOFT-CDO-ALLDAYEVENT:FALSE
SUMMARY:FFA Week Appreciation Breakfast
DESCRIPTION:All community business's\, individuals and sponsors are invited to attend a free appreciation pancake breakfast for supporting the DeWitt Central FFA program. Please RSVP # attending to amy.grantz@central-csd.org by Friday\, February 17th.
X-ALT-DESC;FMTTYPE=text/html:All community business&#39\;s\, individuals and sponsors are invited to attend a free appreciation pancake breakfast for supporting the DeWitt Central FFA program. Please RSVP # attending to amy.grantz@central-csd.org by Friday\, February 17th.
LOCATION:High School Agriculture Education Room- Door #22\, next to HS Tennis Courts\, across from the fairgrounds
UID:e.1774.1866
SEQUENCE:3
DTSTAMP:20260419T234527Z
URL:https://business.dewittiowa.org/events/details/ffa-week-appreciation-breakfast-1866
END:VEVENT

END:VCALENDAR
