BEGIN:VCALENDAR
VERSION:2.0
PRODID:-//ChamberMaster//Event Calendar 2.0//EN
METHOD:PUBLISH
X-PUBLISHED-TTL:P3D
REFRESH-INTERVAL:P3D
CALSCALE:GREGORIAN
BEGIN:VEVENT
DTSTART;VALUE=DATE:20151124
DTEND;VALUE=DATE:20151125
TRANSP:TRANSPARENT
X-MICROSOFT-CDO-ALLDAYEVENT:TRUE
SUMMARY:Fill the Gator Food & Supply Drive
DESCRIPTION:P&K Midwest annual "Fill the Gator Food and Supply Drive". Help Support the local food bank. Non-perishable foods\, Personal hygiene items\, Cleaning supplies\, Diapers\, and Baby food. Please drop off at any P&K Midwest location by Tuesday\, November 24\, 2015.
X-ALT-DESC;FMTTYPE=text/html:P&amp\;K Midwest annual &quot\;Fill the Gator Food and Supply Drive&quot\;. Help Support the local food bank. Non-perishable foods\, Personal hygiene items\, Cleaning supplies\, Diapers\, and Baby food. Please drop off at any P&amp\;K Midwest location by Tuesday\, November 24\, 2015.
LOCATION:Any P&K Midwest location (The DeWitt location is at 1801 11th Street)
UID:e.1774.1154
SEQUENCE:3
DTSTAMP:20260421T013144Z
URL:https://business.dewittiowa.org/events/details/fill-the-gator-food-supply-drive-11-24-2015-1154
END:VEVENT

END:VCALENDAR
