BEGIN:VCALENDAR
VERSION:2.0
PRODID:-//ChamberMaster//Event Calendar 2.0//EN
METHOD:PUBLISH
X-PUBLISHED-TTL:P3D
REFRESH-INTERVAL:P3D
CALSCALE:GREGORIAN
BEGIN:VEVENT
DTSTART:20140802T130000Z
DTEND:20140802T180000Z
X-MICROSOFT-CDO-ALLDAYEVENT:FALSE
SUMMARY:First Central State Bank Crossroads Triathlon
DESCRIPTION:Crossroads Triathlon is a sprint distance triathlon that focuses on supporting new and beginner triathletes. The event is held in DeWitt\, IA and in 2014 will be on Saturday\, August 2nd. 500 yd Swim\, 15 mile Bike\, 5k Run www.crossroadstriathlon.com
X-ALT-DESC;FMTTYPE=text/html:Crossroads Triathlon is a sprint distance triathlon that focuses on supporting new and beginner triathletes. The event is held in DeWitt\, IA and in 2014 will be on Saturday\, August 2nd. 500 yd Swim\, 15 mile Bike\, 5k Run www.crossroadstriathlon.com
LOCATION:DeWitt\, IA
UID:e.1774.91
SEQUENCE:3
DTSTAMP:20260422T011029Z
URL:https://business.dewittiowa.org/events/details/first-central-state-bank-crossroads-triathlon-08-02-2014-91
END:VEVENT

END:VCALENDAR
