BEGIN:VCALENDAR
VERSION:2.0
PRODID:-//ChamberMaster//Event Calendar 2.0//EN
METHOD:PUBLISH
X-PUBLISHED-TTL:P3D
REFRESH-INTERVAL:P3D
CALSCALE:GREGORIAN
BEGIN:VEVENT
DTSTART:20140724T160000Z
DTEND:20140724T180000Z
X-MICROSOFT-CDO-ALLDAYEVENT:FALSE
SUMMARY:First Central State Bank Grilling for Charity
DESCRIPTION:First Central State Bank is hosting a Grilling for Charity for the Boy Scouts of America Troop 29! We will be serving hamburgers\, chips\, cookies and a water for a cash donation of your choice. Delivery Available for Main Street Businesses on 6th Avenue...if you would like us to deliver your lunch to you at work\, please let us know BEFORE 11:00 on Wednesday\, July 23rd.  You may call 659-3141 or email Hannah at hperrone@firstcentralsb.com We will collect your donation at time of delivery! Thank you for your support!
X-ALT-DESC;FMTTYPE=text/html:First Central State Bank is hosting a Grilling for Charity for the Boy Scouts of America Troop 29! We will be serving hamburgers\, chips\, cookies and a water for a cash donation of your choice. Delivery Available for Main Street Businesses on 6th Avenue...if you would like us to deliver your lunch to you at work\, please let us know BEFORE 11:00 on Wednesday\, July 23rd. &nbsp\;You may call 659-3141 or email Hannah at hperrone@firstcentralsb.com We will collect your donation at time of delivery! Thank you for your support!
LOCATION:First Central State Bank 914 6th Ave. DeWitt\, IA
UID:e.1774.92
SEQUENCE:3
DTSTAMP:20260422T011029Z
URL:https://business.dewittiowa.org/events/details/first-central-state-bank-grilling-for-charity-07-24-2014-92
END:VEVENT

END:VCALENDAR
