BEGIN:VCALENDAR
VERSION:2.0
PRODID:-//ChamberMaster//Event Calendar 2.0//EN
METHOD:PUBLISH
X-PUBLISHED-TTL:P3D
REFRESH-INTERVAL:P3D
CALSCALE:GREGORIAN
BEGIN:VEVENT
DTSTART:20170128T140000Z
DTEND:20170128T210000Z
X-MICROSOFT-CDO-ALLDAYEVENT:FALSE
SUMMARY:FIRST Robotics League Tournament
DESCRIPTION:The Finger Puppet Mafia\, Team 8588\, a High School age Robotics team from DeWitt Iowa\, is hosting the FIRST Tech Challenge League Tournament at Central DeWitt High School. This will bring 22 teams from Eastern Iowa together to compete for the chance to move on to the next level of competition\, the Super Qualifier on February 11.
X-ALT-DESC;FMTTYPE=text/html:The Finger Puppet Mafia\, Team 8588\, a High School age Robotics team from DeWitt Iowa\, is hosting the FIRST Tech Challenge League Tournament at Central DeWitt High School. This will bring 22 teams from Eastern Iowa together to compete for the chance to move on to the next level of competition\, the Super Qualifier on February 11.
LOCATION:Central DeWitt High School 519 E. 11th St. DeWitt\, IA 52742
UID:e.1774.1830
SEQUENCE:3
DTSTAMP:20260420T025442Z
URL:https://business.dewittiowa.org/events/details/first-robotics-league-tournament-1830
END:VEVENT

END:VCALENDAR
