BEGIN:VCALENDAR
VERSION:2.0
PRODID:-//ChamberMaster//Event Calendar 2.0//EN
METHOD:PUBLISH
X-PUBLISHED-TTL:P3D
REFRESH-INTERVAL:P3D
CALSCALE:GREGORIAN
BEGIN:VEVENT
DTSTART:20151017T213000Z
DTEND:20151018T003000Z
X-MICROSOFT-CDO-ALLDAYEVENT:FALSE
SUMMARY:Fish Fry
DESCRIPTION:Fish fry for the DeWitt Area Veterans Memorial
X-ALT-DESC;FMTTYPE=text/html:Fish fry for the DeWitt Area Veterans Memorial
LOCATION:American Legion Post 238 704 9th Street DeWitt
UID:e.1774.1050
SEQUENCE:3
DTSTAMP:20260421T012454Z
URL:https://business.dewittiowa.org/events/details/fish-fry-10-17-2015-1050
END:VEVENT

END:VCALENDAR
