BEGIN:VCALENDAR
VERSION:2.0
PRODID:-//ChamberMaster//Event Calendar 2.0//EN
METHOD:PUBLISH
X-PUBLISHED-TTL:P3D
REFRESH-INTERVAL:P3D
CALSCALE:GREGORIAN
BEGIN:VEVENT
DTSTART:20170426T160000Z
DTEND:20170426T180000Z
X-MICROSOFT-CDO-ALLDAYEVENT:FALSE
SUMMARY:Flowers Just Because
DESCRIPTION:Order flowers just because from United Way of Clinton County\, Iowa! Flowers sold at $15 a bunch and will be delivered on Wednesday\, April 26th from 11:00 AM to 1:00 PM. Deliveries made to Camanche\, Clinton\, DeWitt and the surrounding area\, and Fulton. Order deadline: Wednesday\, April 19th\, 2017 by 4:00 PM.
X-ALT-DESC;FMTTYPE=text/html:Order flowers just because from United Way of Clinton County\, Iowa! Flowers sold at $15 a bunch and will be delivered on Wednesday\, April 26th from 11:00 AM to 1:00 PM. Deliveries made to Camanche\, Clinton\, DeWitt and the surrounding area\, and Fulton. Order deadline: Wednesday\, April 19th\, 2017 by 4:00 PM.
LOCATION:
UID:e.1774.2951
SEQUENCE:3
DTSTAMP:20260419T201406Z
URL:https://business.dewittiowa.org/events/details/flowers-just-because-2951
END:VEVENT

END:VCALENDAR
