BEGIN:VCALENDAR
VERSION:2.0
PRODID:-//ChamberMaster//Event Calendar 2.0//EN
METHOD:PUBLISH
X-PUBLISHED-TTL:P3D
REFRESH-INTERVAL:P3D
CALSCALE:GREGORIAN
BEGIN:VEVENT
DTSTART:20170405T114500Z
DTEND:20170405T123000Z
X-MICROSOFT-CDO-ALLDAYEVENT:FALSE
SUMMARY:Founder's Day Breakfast
DESCRIPTION:Central Educational Foundation\n\nFounder's Day Breakfast\n\nRSVP by 3/30
X-ALT-DESC;FMTTYPE=text/html:Central Educational Foundation<br />\nFounder&#39\;s Day Breakfast<br />\nRSVP by 3/30
LOCATION:Central DeWitt High School Cafeteria
UID:e.1774.1926
SEQUENCE:3
DTSTAMP:20260419T201320Z
URL:https://business.dewittiowa.org/events/details/founder-s-day-breakfast-1926
END:VEVENT

END:VCALENDAR
