BEGIN:VCALENDAR
VERSION:2.0
PRODID:-//ChamberMaster//Event Calendar 2.0//EN
METHOD:PUBLISH
X-PUBLISHED-TTL:P3D
REFRESH-INTERVAL:P3D
CALSCALE:GREGORIAN
BEGIN:VEVENT
DTSTART:20160406T114500Z
DTEND:20160406T123000Z
X-MICROSOFT-CDO-ALLDAYEVENT:FALSE
SUMMARY:Founders Day Breakfast
DESCRIPTION:Sponsored by Central Educational Foundation\n\nRSVP by March 29th to Central High School office - Mary Landau
X-ALT-DESC;FMTTYPE=text/html:Sponsored by Central Educational Foundation<br />\nRSVP by March 29th to Central High School office - Mary Landau
LOCATION:Central DeWitt High School Cafeteria
UID:e.1774.1267
SEQUENCE:3
DTSTAMP:20260420T152335Z
URL:https://business.dewittiowa.org/events/details/founders-day-breakfast-04-06-2016-1267
END:VEVENT

END:VCALENDAR
