BEGIN:VCALENDAR
VERSION:2.0
PRODID:-//ChamberMaster//Event Calendar 2.0//EN
METHOD:PUBLISH
X-PUBLISHED-TTL:P3D
REFRESH-INTERVAL:P3D
CALSCALE:GREGORIAN
BEGIN:VEVENT
DTSTART;VALUE=DATE:20160421
DTEND;VALUE=DATE:20160423
TRANSP:TRANSPARENT
X-MICROSOFT-CDO-ALLDAYEVENT:TRUE
SUMMARY:Frame Show 2016 - DeWitt Eyecare
DESCRIPTION:
X-ALT-DESC;FMTTYPE=text/html:
LOCATION:1107 9th Ave. DeWitt\, IA 52742
UID:e.1774.1262
SEQUENCE:3
DTSTAMP:20260420T152523Z
URL:https://business.dewittiowa.org/events/details/frame-show-2016-dewitt-eyecare-04-21-2016-1262
END:VEVENT

END:VCALENDAR
