BEGIN:VCALENDAR
VERSION:2.0
PRODID:-//ChamberMaster//Event Calendar 2.0//EN
METHOD:PUBLISH
X-PUBLISHED-TTL:P3D
REFRESH-INTERVAL:P3D
CALSCALE:GREGORIAN
BEGIN:VEVENT
DTSTART:20141027T230000Z
DTEND:20141028T010000Z
X-MICROSOFT-CDO-ALLDAYEVENT:FALSE
SUMMARY:Frances Friends movie premier and book signing "Emily's Story"
DESCRIPTION:Frances Friends movie premier and book signing "Emily's Story "
X-ALT-DESC;FMTTYPE=text/html:Frances Friends movie premier and book signing &quot\;Emily&#39\;s Story &quot\;
LOCATION:Operahouse Theater 716 6th Ave. DeWitt
UID:e.1774.210
SEQUENCE:3
DTSTAMP:20260421T204251Z
URL:https://business.dewittiowa.org/events/details/frances-friends-movie-premier-and-book-signing-emily-s-story-10-27-2014-210
END:VEVENT

END:VCALENDAR
