BEGIN:VCALENDAR
VERSION:2.0
PRODID:-//ChamberMaster//Event Calendar 2.0//EN
METHOD:PUBLISH
X-PUBLISHED-TTL:P3D
REFRESH-INTERVAL:P3D
CALSCALE:GREGORIAN
BEGIN:VEVENT
DTSTART:20150613T170000Z
DTEND:20150613T200000Z
X-MICROSOFT-CDO-ALLDAYEVENT:FALSE
SUMMARY:Free Antique Appraisals with Terri Applegate\, Certified Appraiser from LeClaire\, IA
DESCRIPTION:Emma Rae's Antiques & Uniques is hosting Terri Applegate\, Certified Appraiser from LeClaire\, IA Saturday\, June 13th from 12pm to 3pm. 2 Free Appraisals per person.  Please use side entrance for Emma Rae's on 8th Street.
X-ALT-DESC;FMTTYPE=text/html:Emma Rae&#39\;s Antiques &amp\; Uniques is hosting Terri Applegate\, Certified Appraiser from LeClaire\, IA Saturday\, June 13th from 12pm to 3pm. 2 Free Appraisals per person.&nbsp\; Please use side&nbsp\;entrance for Emma Rae&#39\;s on 8th Street.
LOCATION:714 6th Ave DeWitt IA 52742
UID:e.1774.470
SEQUENCE:3
DTSTAMP:20260421T080025Z
URL:https://business.dewittiowa.org/events/details/free-antique-appraisals-with-terri-applegate-certified-appraiser-from-leclaire-ia-06-13-2015-470
END:VEVENT

END:VCALENDAR
