BEGIN:VCALENDAR
VERSION:2.0
PRODID:-//ChamberMaster//Event Calendar 2.0//EN
METHOD:PUBLISH
X-PUBLISHED-TTL:P3D
REFRESH-INTERVAL:P3D
CALSCALE:GREGORIAN
BEGIN:VEVENT
DTSTART:20170919T220000Z
DTEND:20170919T233000Z
X-MICROSOFT-CDO-ALLDAYEVENT:FALSE
SUMMARY:Free Excel Spreadsheet Class
DESCRIPTION:We will cover some of the most useful Excel functions\, including IF\, MID\, SUMIF\, and VLOOKUP.  We will also have time for you to get answers to your specific Excel questions.  Contact Blake Hasenmiller (hasenmillerspreadsheets@gmail.com\, 563-212-9702) by 9-15 to register.
X-ALT-DESC;FMTTYPE=text/html:We will cover some of the most useful Excel functions\, including IF\, MID\, SUMIF\, and VLOOKUP. &nbsp\;We will also have time for you to get answers to your specific Excel questions. &nbsp\;Contact Blake Hasenmiller (hasenmillerspreadsheets@gmail.com\, 563-212-9702) by 9-15&nbsp\;to register. &nbsp\;
LOCATION:DeWitt Chamber conference room
UID:e.1774.4251
SEQUENCE:3
DTSTAMP:20260419T120411Z
URL:https://business.dewittiowa.org/events/details/free-excel-spreadsheet-class-09-19-2017-4251
END:VEVENT

END:VCALENDAR
