BEGIN:VCALENDAR
VERSION:2.0
PRODID:-//ChamberMaster//Event Calendar 2.0//EN
METHOD:PUBLISH
X-PUBLISHED-TTL:P3D
REFRESH-INTERVAL:P3D
CALSCALE:GREGORIAN
BEGIN:VEVENT
DTSTART:20170301T230000Z
DTEND:20170302T003000Z
X-MICROSOFT-CDO-ALLDAYEVENT:FALSE
SUMMARY:Free Excel Spreadsheet Class
DESCRIPTION:Bring your trickiest excel problems.  We will cover some of the most useful formulas in Excel\, as well as answering any questions you have.  Laptop is optional.  Come for part or all of the time.
X-ALT-DESC;FMTTYPE=text/html:Bring your trickiest excel problems. &nbsp\;We will cover some of the most useful formulas in Excel\, as well as answering any questions you have. &nbsp\;Laptop is optional. &nbsp\;Come for part or all of the time. &nbsp\;
LOCATION:DCDC Hausbarn - Conference Room 1010 6th Ave. DeWitt\, IA
UID:e.1774.1855
SEQUENCE:3
DTSTAMP:20260419T215503Z
URL:https://business.dewittiowa.org/events/details/free-excel-spreadsheet-class-1855
END:VEVENT

END:VCALENDAR
