BEGIN:VCALENDAR
VERSION:2.0
PRODID:-//ChamberMaster//Event Calendar 2.0//EN
METHOD:PUBLISH
X-PUBLISHED-TTL:P3D
REFRESH-INTERVAL:P3D
CALSCALE:GREGORIAN
BEGIN:VEVENT
DTSTART:20160926T200000Z
DTEND:20160926T233000Z
X-MICROSOFT-CDO-ALLDAYEVENT:FALSE
SUMMARY:Free LASIK Seminar
DESCRIPTION:DeWitt Eyecare is hosting TLC Vision Center for a night of FREE screenings to answer your questions and help determine if LASIK is right for you! Please call (563-659-2020) to schedule a time in our DeWitt office before they fill up! \n\n\n\nHere are a few of the reasons we think TLC is the BEST option for LASIK in the area:\n\n#1: Local pre- and post-operative care with the doctors at DeWitt Eyecare you are familiar and comfortable with.\n\n\n\n#2: TLC's use of up-to-date\, quality instrumentation and experienced doctors.\n\n\n\n#3: TLC's Lifetime Commitment - Patients have the opportunity to receive an enhancement procedure AT NO COST should his/her vision change or result not be as ideal as desired. Confidence and reassurance!\n\n\n\n#4: TLC centers are located all over the United States. If you ever move out of the area\, you can still receive care at any of the centers near you as opposed to having to travel back to your original site.
X-ALT-DESC;FMTTYPE=text/html:DeWitt Eyecare is hosting TLC Vision Center for a night of FREE screenings to answer your questions and help determine if LASIK is right for you!&nbsp\;Please call (563-659-2020) to schedule a time&nbsp\;in our DeWitt office before they fill up!&nbsp\;<br />\n<br />\nHere are a few of the reasons we think TLC is the BEST option for LASIK in the area:<br />\n#1: Local pre- and post-operative care with the doctors at DeWitt Eyecare you are familiar and comfortable with.<br />\n<br />\n#2: TLC&#39\;s use of up-to-date\, quality instrumentation and experienced doctors.<br />\n<br />\n#3: TLC&#39\;s Lifetime Commitment - Patients have the opportunity to receive an enhancement procedure AT NO COST should his/her vision change or result not be as ideal as desired. Confidence and reassurance!<br />\n<br />\n#4: TLC centers are located all over the United States. If you ever&nbsp\;move out of the area\, you can still receive care at any of the centers near you as opposed to having to travel back to your original site.
LOCATION:DeWitt Eyecare 1107 9th Ave. DeWitt\, IA 52742
UID:e.1774.1592
SEQUENCE:3
DTSTAMP:20260420T073645Z
URL:https://business.dewittiowa.org/events/details/free-lasik-seminar-1592
END:VEVENT

END:VCALENDAR
