BEGIN:VCALENDAR
VERSION:2.0
PRODID:-//ChamberMaster//Event Calendar 2.0//EN
METHOD:PUBLISH
X-PUBLISHED-TTL:P3D
REFRESH-INTERVAL:P3D
CALSCALE:GREGORIAN
BEGIN:VEVENT
DTSTART:20150806T210000Z
DTEND:20150806T230000Z
X-MICROSOFT-CDO-ALLDAYEVENT:FALSE
SUMMARY:Free Root Beer Floats!
DESCRIPTION:Free Root Beer Floats!!\n\n4-6PM on August 6th\n\nNational Root Beer Float Day\n\nat Central Insurance!
X-ALT-DESC;FMTTYPE=text/html:<div style="text-align: center\;">Free Root Beer Floats!!<br />\n4-6PM on August 6th<br />\nNational Root Beer Float Day<br />\nat Central Insurance!</div>\n
LOCATION:Central Insurance 1017 6th Ave DeWitt
UID:e.1774.997
SEQUENCE:3
DTSTAMP:20260421T043118Z
URL:https://business.dewittiowa.org/events/details/free-root-beer-floats-08-06-2015-997
END:VEVENT

END:VCALENDAR
