BEGIN:VCALENDAR
VERSION:2.0
PRODID:-//ChamberMaster//Event Calendar 2.0//EN
METHOD:PUBLISH
X-PUBLISHED-TTL:P3D
REFRESH-INTERVAL:P3D
CALSCALE:GREGORIAN
BEGIN:VEVENT
DTSTART:20170722T130000Z
DTEND:20170722T140000Z
X-MICROSOFT-CDO-ALLDAYEVENT:FALSE
SUMMARY:Free Yoga in Lincoln Park
DESCRIPTION:Free yoga class in DeWitt's Lincoln Park.  Class taught by DeWitt Fitness Center yoga instructors.  Open to all ages and abilities.  Bring a mat.  If you don't have one\, one will be provided.  Bring a friend.  Try it out.
X-ALT-DESC;FMTTYPE=text/html:Free yoga class in DeWitt&#39\;s Lincoln Park. &nbsp\;Class taught by DeWitt Fitness Center yoga instructors. &nbsp\;Open to all ages and abilities. &nbsp\;Bring a mat. &nbsp\;If you don&#39\;t have one\, one will be provided. &nbsp\;Bring a friend. &nbsp\;Try it out.
LOCATION:Lincoln Park\, DeWitt\, Iowa.
UID:e.1774.3185
SEQUENCE:3
DTSTAMP:20260419T170212Z
URL:https://business.dewittiowa.org/events/details/free-yoga-in-lincoln-park-07-22-2017-3185
END:VEVENT

END:VCALENDAR
