BEGIN:VCALENDAR
VERSION:2.0
PRODID:-//ChamberMaster//Event Calendar 2.0//EN
METHOD:PUBLISH
X-PUBLISHED-TTL:P3D
REFRESH-INTERVAL:P3D
CALSCALE:GREGORIAN
BEGIN:VEVENT
DTSTART;VALUE=DATE:20170428
DTEND;VALUE=DATE:20170430
TRANSP:TRANSPARENT
X-MICROSOFT-CDO-ALLDAYEVENT:TRUE
SUMMARY:Friends of Frances Book Sale
DESCRIPTION:Friends of Frances is sponsoring the sale of books at Frances Banta Waggoner Community Library
X-ALT-DESC;FMTTYPE=text/html:Friends of Frances is sponsoring the sale of books at Frances Banta Waggoner Community Library
LOCATION:Frances Banta Waggoner Community Library 505 10th St\, DeWitt\, Iowa
UID:e.1774.2981
SEQUENCE:3
DTSTAMP:20260419T202559Z
URL:https://business.dewittiowa.org/events/details/friends-of-frances-book-sale-04-28-2017-2981
END:VEVENT

END:VCALENDAR
