BEGIN:VCALENDAR
VERSION:2.0
PRODID:-//ChamberMaster//Event Calendar 2.0//EN
METHOD:PUBLISH
X-PUBLISHED-TTL:P3D
REFRESH-INTERVAL:P3D
CALSCALE:GREGORIAN
BEGIN:VEVENT
DTSTART;VALUE=DATE:20161006
DTEND;VALUE=DATE:20161009
TRANSP:TRANSPARENT
X-MICROSOFT-CDO-ALLDAYEVENT:TRUE
SUMMARY:Friends of Frances Book Sale
DESCRIPTION:Book sale at the public library.\n\nBenefits Friends of Frances
X-ALT-DESC;FMTTYPE=text/html:Book sale at the public library.<br />\nBenefits Friends of Frances
LOCATION:Frances Banta Waggoner Community Library 505 10th St. DeWitt
UID:e.1774.1610
SEQUENCE:3
DTSTAMP:20260420T061654Z
URL:https://business.dewittiowa.org/events/details/friends-of-frances-book-sale-1610
END:VEVENT

END:VCALENDAR
