BEGIN:VCALENDAR
VERSION:2.0
PRODID:-//ChamberMaster//Event Calendar 2.0//EN
METHOD:PUBLISH
X-PUBLISHED-TTL:P3D
REFRESH-INTERVAL:P3D
CALSCALE:GREGORIAN
BEGIN:VEVENT
DTSTART:20151024T140000Z
DTEND:20151024T180000Z
X-MICROSOFT-CDO-ALLDAYEVENT:FALSE
SUMMARY:Friends of Frances Used Book Sale
DESCRIPTION:Winter is Coming! Friends of Frances will be holding their semi-annual used book sale on Saturday\, October 24 from 9-1. The monies raised will be used for new technology in our library. Many genres available! Childrens and Young Adults! Nonfiction! Puzzles and Games!
X-ALT-DESC;FMTTYPE=text/html:Winter is Coming! Friends of Frances will be holding their semi-annual used book sale on Saturday\, October 24 from 9-1. The monies raised will be used for new technology in our library. Many genres available! Childrens and Young Adults! Nonfiction! Puzzles and Games!
LOCATION:Frances Banta Waggoner Community Library
UID:e.1774.1080
SEQUENCE:3
DTSTAMP:20260421T013329Z
URL:https://business.dewittiowa.org/events/details/friends-of-frances-used-book-sale-10-24-2015-1080
END:VEVENT

END:VCALENDAR
