BEGIN:VCALENDAR
VERSION:2.0
PRODID:-//ChamberMaster//Event Calendar 2.0//EN
METHOD:PUBLISH
X-PUBLISHED-TTL:P3D
REFRESH-INTERVAL:P3D
CALSCALE:GREGORIAN
BEGIN:VEVENT
DTSTART:20170617T230000Z
DTEND:20170618T020000Z
X-MICROSOFT-CDO-ALLDAYEVENT:FALSE
SUMMARY:Fun Pianos by 176 keys (a traveling Dueling piano event)
DESCRIPTION:The Fun Pianos by 176 keys are making their 1st appearance at TYCOGA.\n\nA high energy\, nonstop dueling piano event!! Tons of fun!\n\nAppetizers from 6-7pm\n\nShow 7-9pm.
X-ALT-DESC;FMTTYPE=text/html:The Fun Pianos by 176 keys&nbsp\;are making their 1st appearance at TYCOGA.<br />\nA high energy\, nonstop&nbsp\;dueling piano event!! Tons of fun!<br />\nAppetizers from 6-7pm<br />\nShow 7-9pm.<br />\n&nbsp\;
LOCATION:TYCOGA Vineyard & Winery 2585 195th Street DeWitt\, IA 52742 563-659-1443
UID:e.1774.3049
SEQUENCE:3
DTSTAMP:20260419T165801Z
URL:https://business.dewittiowa.org/events/details/fun-pianos-by-176-keys-a-dueling-piano-event-3049
END:VEVENT

END:VCALENDAR
