BEGIN:VCALENDAR
VERSION:2.0
PRODID:-//ChamberMaster//Event Calendar 2.0//EN
METHOD:PUBLISH
X-PUBLISHED-TTL:P3D
REFRESH-INTERVAL:P3D
CALSCALE:GREGORIAN
BEGIN:VEVENT
DTSTART:20170711T150000Z
DTEND:20170711T160000Z
X-MICROSOFT-CDO-ALLDAYEVENT:FALSE
SUMMARY:Gain a Grip on Grief
DESCRIPTION:Free educational support group exploring meaningful ways to navigate grief and find healing support for unsettling change. Sponsored by Genesis Grief Support Cooperative
X-ALT-DESC;FMTTYPE=text/html:Free educational support group exploring meaningful ways to navigate grief and find healing support for unsettling change. Sponsored by Genesis Grief Support Cooperative
LOCATION:Genesis West Wing Ray Brown Room 1118 11th St. DeWitt
UID:e.1774.3126
SEQUENCE:3
DTSTAMP:20260419T152435Z
URL:https://business.dewittiowa.org/events/details/gain-a-grip-on-grief-3126
END:VEVENT

END:VCALENDAR
