BEGIN:VCALENDAR
VERSION:2.0
PRODID:-//ChamberMaster//Event Calendar 2.0//EN
METHOD:PUBLISH
X-PUBLISHED-TTL:P3D
REFRESH-INTERVAL:P3D
CALSCALE:GREGORIAN
BEGIN:VEVENT
DTSTART;VALUE=DATE:20140426
DTEND;VALUE=DATE:20140427
TRANSP:TRANSPARENT
X-MICROSOFT-CDO-ALLDAYEVENT:TRUE
SUMMARY:Garden Cafe 'HIGH TEA'
DESCRIPTION:Karen & Deb host.  The choral group BELLA CANTA will also be here to make this a special occasion you will want to share with dear friends and loved ones.
X-ALT-DESC;FMTTYPE=text/html:Karen &amp\; Deb host. &nbsp\;The choral group BELLA CANTA will also be here to make this a special occasion you will want to share with dear friends and loved ones.
LOCATION:The Garden Cafe at THE CROSSROADS Inspired Living 602 10th Street Downtown DeWitt
UID:e.1774.37
SEQUENCE:3
DTSTAMP:20260422T073759Z
URL:https://business.dewittiowa.org/events/details/garden-cafe-high-tea-04-26-2014-37
END:VEVENT

END:VCALENDAR
