BEGIN:VCALENDAR
VERSION:2.0
PRODID:-//ChamberMaster//Event Calendar 2.0//EN
METHOD:PUBLISH
X-PUBLISHED-TTL:P3D
REFRESH-INTERVAL:P3D
CALSCALE:GREGORIAN
BEGIN:VEVENT
DTSTART:20160315T233000Z
DTEND:20160316T003000Z
X-MICROSOFT-CDO-ALLDAYEVENT:FALSE
SUMMARY:German Easter Traditions
DESCRIPTION:This presenter\, who lived in Germany for many years\, will tell about how people in Germany celebrate Easter and the coming of spring. Highlights include a series of slides on "Osterbrunnen\," elaborately decorated wells and fountains found in the Franconia area of northern Bavaria.
X-ALT-DESC;FMTTYPE=text/html:This presenter\, who lived in Germany for many years\, will tell about how people in Germany celebrate Easter and the coming of spring. Highlights include a series of slides on &quot\;Osterbrunnen\,&quot\; elaborately decorated wells and fountains found in the Franconia area of northern Bavaria.
LOCATION:Central Community Historical Society 628 6th Ave DeWitt
UID:e.1774.1250
SEQUENCE:3
DTSTAMP:20260420T182541Z
URL:https://business.dewittiowa.org/events/details/german-easter-traditions-03-15-2016-1250
END:VEVENT

END:VCALENDAR
