BEGIN:VCALENDAR
VERSION:2.0
PRODID:-//ChamberMaster//Event Calendar 2.0//EN
METHOD:PUBLISH
X-PUBLISHED-TTL:P3D
REFRESH-INTERVAL:P3D
CALSCALE:GREGORIAN
BEGIN:VEVENT
DTSTART:20161004T230000Z
DTEND:20161005T010000Z
X-MICROSOFT-CDO-ALLDAYEVENT:FALSE
SUMMARY:German Jazz & Swing Band
DESCRIPTION:The Hot Jazz Stompers from Cloppenburg\, Germany will perform a free public concert. Sponsored by DeWitt Parks & Recreation "Tunes in Town"\, Hansen Monument Co. and the Quad Cities German-American Clubs.\n\n\n\nFood by Matthiesen's \n\nDesserts by Whisk Away
X-ALT-DESC;FMTTYPE=text/html:The Hot Jazz Stompers from Cloppenburg\, Germany will perform a free public concert. Sponsored by DeWitt Parks &amp\; Recreation &quot\;Tunes in Town&quot\;\, Hansen Monument Co. and the Quad Cities German-American Clubs.<br />\n<br />\nFood by&nbsp\;Matthiesen&#39\;s&nbsp\;<br />\nDesserts by Whisk Away
LOCATION:Lincoln Park Band Shell
UID:e.1774.1529
SEQUENCE:3
DTSTAMP:20260420T061042Z
URL:https://business.dewittiowa.org/events/details/german-jazz-swing-band-10-04-2016-1529
END:VEVENT

END:VCALENDAR
