BEGIN:VCALENDAR
VERSION:2.0
PRODID:-//ChamberMaster//Event Calendar 2.0//EN
METHOD:PUBLISH
X-PUBLISHED-TTL:P3D
REFRESH-INTERVAL:P3D
CALSCALE:GREGORIAN
BEGIN:VEVENT
DTSTART;VALUE=DATE:20150116
DTEND;VALUE=DATE:20150117
TRANSP:TRANSPARENT
X-MICROSOFT-CDO-ALLDAYEVENT:TRUE
SUMMARY:Get Fit DeWitt
DESCRIPTION:Get Fit DeWitt is coming back for an 8th year.\n\nThe wellness program begins on January 26th and runs through April 3. Registration opens December 16. Captains\, get your teams ready.  This health and wellness program is part of the Live Healthy Iowa program to make Iowa the healthiest state in the nation. This year\, the program will again be 10 weeks\, not 100 days. All registration will be done online again this year.\n\nTo sign up\, follow the simple steps below.\n\nGo To www.livehealthyiowa.org\n\nClick on Join Today\n\nIn the Corporate/Group ID box captains will enter LHIDEWITT ? This gets you in our local program. Not\n\nentering LHIDEWITT puts you in the basic state run program.\n\nCost of the program is $20\n\nAll Payments will be made online.\n\nTeam captain will sign up their team (up to 10 people) with 1 credit / debit card\n\nAt the time of registration\, the captain will need to have:\n\n Team Name\, Email address for each team member\, T-shirt size for each team member\n\n It is advised to collect the money from each team member ahead of time\n\nAgain this year\, the DeWitt Fitness Center will offer a discount membership for participants. This year\, it will be a 68 day membership for $68. This special Membership is only available to those that participate in the program.\n\nRound up your friends\, family\, coworkers and neighbors and get ready to live healthy.\n\nFor only $20\, you will receive:\n\n-Training t-shirt (new color in 2015)\n\n-Weekly activity\, nutrition and recipe tips via e-mail\n\n-A personal online tracking page\n\n-Unlimited access to healthy recipes\, health tips and more\n\n-Opportunities to win individual prizes and team incentives\n\n-One-year subscription to one of the lifestyle magazines ? NEW CHOICES THIS YEAR! (Better Homes and Gardens\, Ladies?\n\nHome Journal\, Fitness\, Diabetic Living\, EatingWell\, Every Day with Rachael Ray\, FamilyFun\, Family Circle\, Men's Journal\,\n\nMen's Health & Runner's World)\n\nFor more information\, please contact Kevin at the DeWitt Fitness Center (659-5127)\n\nSign up today.
X-ALT-DESC;FMTTYPE=text/html:Get Fit DeWitt is coming back for an 8th year.<br>\nThe wellness program begins on January 26th and runs through April&nbsp\;3. Registration opens December 16. Captains\, get your teams ready. &nbsp\;This health and wellness program is part of the Live Healthy Iowa program to make Iowa the healthiest state in the&nbsp\;nation. This year\, the program will again be 10 weeks\, not 100 days. All registration will be done online again this year.<br>\nTo sign up\, follow the simple steps below.<br>\nGo To www.livehealthyiowa.org<br>\nClick on Join Today<br>\nIn the Corporate/Group ID box captains will enter LHIDEWITT ? This gets you in our local program. Not<br>\nentering LHIDEWITT puts you in the basic state run program.<br>\nCost of the program is $20<br>\nAll Payments will be made online.<br>\nTeam captain will sign up their team (up to 10 people) with 1 credit / debit card<br>\nAt the time of registration\, the captain will need to have:<br>\n&nbsp\;Team Name\, Email address for each team member\, T-shirt size for each team member<br>\n&nbsp\;It is advised to collect the money from each team member ahead of time<br>\nAgain this year\, the DeWitt Fitness Center will offer a discount membership for participants. This year\, it will be a 68 day&nbsp\;membership for $68. This special Membership is only available to those that participate in the program.<br>\nRound up your friends\, family\, coworkers and neighbors and get ready to live healthy.<br>\nFor only $20\, you will receive:<br>\n-Training t-shirt (new color in 2015)<br>\n-Weekly activity\, nutrition and recipe tips via e-mail<br>\n-A personal online tracking page<br>\n-Unlimited access to healthy recipes\, health tips and more<br>\n-Opportunities to win individual prizes and team incentives<br>\n-One-year subscription to one of the lifestyle magazines ? NEW CHOICES THIS YEAR! (Better Homes and Gardens\, Ladies?<br>\nHome Journal\, Fitness\, Diabetic Living\, EatingWell\, Every Day with Rachael Ray\, FamilyFun\, Family Circle\, Men's Journal\,<br>\nMen's Health &amp\; Runner's World)<br>\nFor more information\, please contact Kevin at the DeWitt Fitness Center (659-5127)<br>\nSign up today.
LOCATION:
UID:e.1774.252
SEQUENCE:3
DTSTAMP:20260421T153916Z
URL:https://business.dewittiowa.org/events/details/get-fit-dewitt-01-16-2015-252
END:VEVENT

END:VCALENDAR
