BEGIN:VCALENDAR
VERSION:2.0
PRODID:-//ChamberMaster//Event Calendar 2.0//EN
METHOD:PUBLISH
X-PUBLISHED-TTL:P3D
REFRESH-INTERVAL:P3D
CALSCALE:GREGORIAN
BEGIN:VEVENT
DTSTART:20151119T160000Z
DTEND:20151121T230000Z
X-MICROSOFT-CDO-ALLDAYEVENT:FALSE
SUMMARY:"Giving Thanks & With Thoughts of Christmas"
DESCRIPTION:Won't you join us for this Season's Festive Open House?!   Refreshments\, Beautiful Decor & Gifts that Inspire!
X-ALT-DESC;FMTTYPE=text/html:Won&#39\;t you join us for this&nbsp\;Season&#39\;s Festive Open House?!&nbsp\;&nbsp\; Refreshments\, Beautiful Decor &amp\; Gifts that <em>Inspire!<em>&nbsp\;&nbsp\; </em></em>
LOCATION:THE CROSSROADS Inspired Living 6th Avenue & 10th Street * Downtown DeWitt
UID:e.1774.1122
SEQUENCE:3
DTSTAMP:20260421T013144Z
URL:https://business.dewittiowa.org/events/details/giving-thanks-with-thoughts-of-christmas-11-19-2015-1122
END:VEVENT

END:VCALENDAR
