BEGIN:VCALENDAR
VERSION:2.0
PRODID:-//ChamberMaster//Event Calendar 2.0//EN
METHOD:PUBLISH
X-PUBLISHED-TTL:P3D
REFRESH-INTERVAL:P3D
CALSCALE:GREGORIAN
BEGIN:VEVENT
DTSTART;VALUE=DATE:20161117
DTEND;VALUE=DATE:20161120
TRANSP:TRANSPARENT
X-MICROSOFT-CDO-ALLDAYEVENT:TRUE
SUMMARY:"Giving Thanks & With Thoughts of Christmas" OPEN HOUSE
DESCRIPTION:You Are Invited to:\n\n\n\n"Giving Thanks & With Thoughts of Christmas" OPEN HOUSE \n\nThursday - Saturday\, November 17 - 19\n\n@ THE CROSSROADS Inspired Living\n\n6th Avenue & 10th Street * Downtown DeWitt\n\n\n\nCelebrate the Beauty & Meaning of the Season!
X-ALT-DESC;FMTTYPE=text/html:<h3 style="text-align: center\;"><span style="font-size:18px"><strong><span style="font-family:tahoma"><span style="font-size:26px"><span style="color:rgb(128\, 0\, 0)"><em>You Are Invited to:</em></span></span><br />\n<br />\n<span style="font-size:20px">&quot\;Giving Thanks &amp\; With Thoughts of Christmas&quot\; OPEN HOUSE </span></span></strong></span></h3>\n\n<div style="text-align: center\;"><span style="font-size:20px"><span style="font-size:22px"><span style="color:rgb(128\, 0\, 0)"><strong>Thursday - Saturday\, November 17 - 19</strong></span></span><br />\n@&nbsp\;THE CROSSROADS Inspired Living<br />\n6th Avenue &amp\; 10th Street * Downtown DeWitt<br />\n<br />\n<strong><font color="#800000" size="5">Celebrate the </font><em><font color="#800000" size="5">Beauty &amp\; Meaning </font></em><font color="#800000" size="5">of the Season!</font></strong></span><br />\n<br />\n&nbsp\;</div>\n
LOCATION:
UID:e.1774.1703
SEQUENCE:3
DTSTAMP:20260420T043539Z
URL:https://business.dewittiowa.org/events/details/giving-thanks-with-thoughts-of-christmas-open-house-1703
END:VEVENT

END:VCALENDAR
